BEGIN:VCALENDAR
VERSION:2.0
PRODID:-//DoMiSo Music School - Event Espresso Version 3.1.36.5.P//NONSGML v1.0//EN
METHOD:PUBLISH
X-ORIGINAL-URL:http://domisomusicschool.ie/event-registration/?ee=1470
X-WR-CALDESC:DoMiSo Music School
X-WR-TIMEZONE:Europe/Dublin
BEGIN:VEVENT
DTSTAMP:20171104T030237
UID:e02532d97ab37c58ce3cd8d5801a7a1b-59fd2bbf3798f5.30530981@http://domisomusicschool.ie/event-registration/?ee=1470
ORGANIZER:MAILTO:briscoe.rachel@gmail.com
DTSTART:20171012T111500
DTEND:20171012T114500
STATUS:CONFIRMED
URL:http://domisomusicschool.ie/event-registration/?ee=1470
SUMMARY:Musical Toddlers
LOCATION:
END:VEVENT
END:VCALENDAR
